BEGIN:VCALENDAR
VERSION:2.0
PRODID:-//Wanstead Village Directory - ECPv6.15.17//NONSGML v1.0//EN
CALSCALE:GREGORIAN
METHOD:PUBLISH
X-ORIGINAL-URL:https://wansteadvillagedirectory.com
X-WR-CALDESC:Events for Wanstead Village Directory
REFRESH-INTERVAL;VALUE=DURATION:PT1H
X-Robots-Tag:noindex
X-PUBLISHED-TTL:PT1H
BEGIN:VTIMEZONE
TZID:Europe/London
BEGIN:DAYLIGHT
TZOFFSETFROM:+0000
TZOFFSETTO:+0100
TZNAME:BST
DTSTART:20240331T010000
END:DAYLIGHT
BEGIN:STANDARD
TZOFFSETFROM:+0100
TZOFFSETTO:+0000
TZNAME:GMT
DTSTART:20241027T010000
END:STANDARD
BEGIN:DAYLIGHT
TZOFFSETFROM:+0000
TZOFFSETTO:+0100
TZNAME:BST
DTSTART:20250330T010000
END:DAYLIGHT
BEGIN:STANDARD
TZOFFSETFROM:+0100
TZOFFSETTO:+0000
TZNAME:GMT
DTSTART:20251026T010000
END:STANDARD
BEGIN:DAYLIGHT
TZOFFSETFROM:+0000
TZOFFSETTO:+0100
TZNAME:BST
DTSTART:20260329T010000
END:DAYLIGHT
BEGIN:STANDARD
TZOFFSETFROM:+0100
TZOFFSETTO:+0000
TZNAME:GMT
DTSTART:20261025T010000
END:STANDARD
END:VTIMEZONE
BEGIN:VEVENT
DTSTART;TZID=Europe/London:20251208T163000
DTEND;TZID=Europe/London:20251231T000000
DTSTAMP:20260423T010613
CREATED:20251029T114247Z
LAST-MODIFIED:20251029T114247Z
UID:14619-1765211400-1767139200@wansteadvillagedirectory.com
SUMMARY:The Wonderful Wizard of Oz
DESCRIPTION:Join Dorothy and on a quest to find the mysterious Wizard of Oz. A Redbridge Creates production.
URL:https://wansteadvillagedirectory.com/event/the-wonderful-wizard-of-oz/
LOCATION:Redbridge Drama Centre\, E18 2RB
END:VEVENT
BEGIN:VEVENT
DTSTART;TZID=Europe/London:20251213T100000
DTEND;TZID=Europe/London:20251223T160000
DTSTAMP:20260423T010613
CREATED:20251029T114247Z
LAST-MODIFIED:20251029T114247Z
UID:14622-1765620000-1766505600@wansteadvillagedirectory.com
SUMMARY:Santa’s Christmas Workshop
DESCRIPTION:Elves will welcome you to their magical interactive Christmas show\, after which Miss Christmas will take you to the elves workshop\, where you will be able to make a Christmas decoration and write your letter to Santa. Next\, you will be invited to meet Father Christmas himself\, in the grotto.
URL:https://wansteadvillagedirectory.com/event/santas-christmas-workshop-2/
LOCATION:Redbridge Drama Centre\, E18 2RB
END:VEVENT
BEGIN:VEVENT
DTSTART;TZID=Europe/London:20251217T190000
DTEND;TZID=Europe/London:20251217T190000
DTSTAMP:20260423T010613
CREATED:20251124T111719Z
LAST-MODIFIED:20251124T111719Z
UID:14797-1765998000-1765998000@wansteadvillagedirectory.com
SUMMARY:Community Carols on the High Street
DESCRIPTION:Members of the Parish of Wanstead choir will lead the singing. Raising money for Centrepoint.
URL:https://wansteadvillagedirectory.com/event/community-carols-on-the-high-street-2/
LOCATION:Wanstead War Memorial\, High Street E11 2AA
END:VEVENT
BEGIN:VEVENT
DTSTART;TZID=Europe/London:20251217T193000
DTEND;TZID=Europe/London:20251217T213000
DTSTAMP:20260423T010613
CREATED:20251124T111920Z
LAST-MODIFIED:20251124T111920Z
UID:14798-1765999800-1766007000@wansteadvillagedirectory.com
SUMMARY:Laugh-Able Comedy Night in Wanstead
DESCRIPTION:Fully accessible\, affordable and award-winning comedy night.
URL:https://wansteadvillagedirectory.com/event/laugh-able-comedy-night-in-wanstead-2/
LOCATION:Wanstead Library\, Spratt Hall Road
END:VEVENT
END:VCALENDAR